Workbook

Sheet 10#
A1: 商品住房房源价目清单
A2: 楼幢号： | B2: 10 | C2: 地上层数（层）： | D2: 6+1F
A3: 序号 | B3: 房号 | C3: 建筑面积（平方米） | D3: 单价（元/平方米） | E3: 房屋总价（元）
A4: 1 | B4: 10-3-102 | C4: 143.93 | D4: 17014.104 | E4: 2448840
A5: 2 | B5: 10-3-202 | C5: 143.93 | D5: 13617.842 | E5: 1960016
A6: 3 | B6: 10-3-302 | C6: 143.93 | D6: 13927.027 | E6: 2004517
A7: 4 | B7: 10-3-402 | C7: 143.93 | D7: 13927.027 | E7: 2004517
A8: 5 | B8: 10-3-502 | C8: 143.93 | D8: 14236.212 | E8: 2049018
A9: 6 | B9: 10-3-602 | C9: 182.59 | D9: 13301.742 | E9: 2428765
A10: 7 | B10: 10-3-101 | C10: 143.63 | D10: 16740.883 | E10: 2404493
A11: 8 | B11: 10-3-201 | C11: 143.63 | D11: 13412.184 | E11: 1926392
A12: 9 | B12: 10-3-301 | C12: 143.63 | D12: 13721.367 | E12: 1970800
A13: 10 | B13: 10-3-401 | C13: 143.63 | D13: 13721.367 | E13: 1970800
A14: 11 | B14: 10-3-501 | C14: 143.63 | D14: 14030.551 | E14: 2015208
A15: 12 | B15: 10-3-601 | C15: 182.4 | D15: 13095.8 | E15: 2388674
... A39: 36 | B39: 10-1-601 | C39: 182.59 | D39: 13404.803 | E39: 2447583
A42: 签发： | C42: 签订： | D42: 复核： | E42: 编制：

Sheet 14#
A1: 商品住房房源价目清单
A2: 楼幢号： | B2: 14 | C2: 地上层数（层）： | D2: 6+1F
A3: 序号 | B3: 房号 | C3: 建筑面积（平方米） | D3: 单价（元/平方米） | E3: 房屋总价（元）
A4: 1 | B4: 14-3-102 | C4: 143.93 | D4: 17529.41 | E4: 2523008
A5: 2 | B5: 14-3-202 | C5: 143.93 | D5: 14133.148 | E5: 2034184
A6: 3 | B6: 14-3-302 | C6: 143.93 | D6: 14442.333 | E6: 2078685
A7: 4 | B7: 14-3-402 | C7: 143.93 | D7: 14442.333 | E7: 2078685
A8: 5 | B8: 14-3-502 | C8: 143.93 | D8: 14751.511 | E8: 2123185
A9: 6 | B9: 14-3-602 | C9: 182.59 | D9: 13817.044 | E9: 2522854
A10: 7 | B10: 14-3-101 | C10: 143.63 | D10: 16947.003 | E10: 2434098
A11: 8 | B11: 14-3-201 | C11: 143.63 | D11: 13618.304 | E11: 1955997
A12: 9 | B12: 14-3-301 | C12: 143.63 | D12: 13927.487 | E12: 2000405
A13: 10 | B13: 14-3-401 | C13: 143.63 | D13: 13927.487 | E13: 2000405
A14: 11 | B14: 14-3-501 | C14: 143.63 | D14: 14236.671 | E14: 2044813
A15: 12 | B15: 14-3-601 | C15: 182.4 | D15: 12786.617 | E15: 2332279
... A39: 36 | B39: 14-1-601 | C39: 182.59 | D39: 13456.334 | E39: 2456992
A41: 签发： | C41: 签订： | D41: 复核： | E41: 编制：

Sheet 15#
A1: 商品住房房源价目清单
A2: 楼幢号： | B2: 15 | C2: 地上层数（层）： | D2: 6+1F
A3: 序号 | B3: 房号 | C3: 建筑面积（平方米） | D3: 单价（元/平方米） | E3: 房屋总价（元）
A4: 1 | B4: 15-2-102 | C4: 143.84 | D4: 16669.369 | E4: 2397722
A5: 2 | B5: 15-2-202 | C5: 143.84 | D5: 13594.278 | E5: 1955401
A6: 3 | B6: 15-2-302 | C6: 143.84 | D6: 13903.462 | E6: 1999874
A7: 4 | B7: 15-2-402 | C7: 143.84 | D7: 13903.462 | E7: 1999874
A8: 5 | B8: 15-2-502 | C8: 143.84 | D8: 14212.646 | E8: 2044347
A9: 6 | B9: 15-2-602 | C9: 182.47 | D9: 13278.15 | E9: 2422864
A10: 7 | B10: 15-2-101 | C10: 143.54 | D10: 16641.236 | E10: 2388683
A11: 8 | B11: 15-2-201 | C11: 143.54 | D11: 13311.321 | E11: 1910707
A12: 9 | B12: 15-2-301 | C12: 143.54 | D12: 13620.51 | E12: 1955088
A13: 10 | B13: 15-2-401 | C13: 143.54 | D13: 13620.51 | E13: 1955088
A14: 11 | B14: 15-2-501 | C14: 143.54 | D14: 13929.692 | E14: 1999468
A15: 12 | B15: 15-2-601 | C15: 182.28 | D15: 12994.914 | E15: 2368713
... A27: 24 | B27: 15-1-601 | C27: 182.47 | D27: 13278.15 | E27: 2422864
A29: 签发： | C29: 签订： | D29: 复核： | E29: 编制：

Sheet 18#
A1: 商品住房房源价目清单
A2: 楼幢号： | B2: 18 | C2: 地上层数（层）： | D2: 6+1F
A3: 序号 | B3: 房号 | C3: 建筑面积（平方米） | D3: 单价（元/平方米） | E3: 房屋总价（元）
A4: 1 | B4: 18-3-102 | C4: 143.93 | D4: 16333.857 | E4: 2350932
A5: 2 | B5: 18-3-202 | C5: 143.93 | D5: 13617.842 | E5: 1960016
A6: 3 | B6: 18-3-302 | C6: 143.93 | D6: 13927.027 | E6: 2004517
A7: 4 | B7: 18-3-402 | C7: 143.93 | D7: 13927.027 | E7: 2004517
A8: 5 | B8: 18-3-502 | C8: 143.93 | D8: 14236.212 | E8: 2049018
A9: 6 | B9: 18-3-602 | C9: 182.59 | D9: 13301.742 | E9: 2428765
A10: 7 | B10: 18-3-101 | C10: 143.63 | D10: 15924.842 | E10: 2287285
A11: 8 | B11: 18-3-201 | C11: 143.63 | D11: 13206.064 | E11: 1896787
A12: 9 | B12: 18-3-301 | C12: 143.63 | D12: 13515.248 | E12: 1941195
A13: 10 | B13: 18-3-401 | C13: 143.63 | D13: 13515.248 | E13: 1941195
A14: 11 | B14: 18-3-501 | C14: 143.63 | D14: 13824.431 | E14: 1985603
A15: 12 | B15: 18-3-601 | C15: 182.4 | D15: 12992.741 | E15: 2369876
... A39: 36 | B39: 18-1-601 | C39: 182.59 | D39: 13095.619 | E39: 2391129
A41: 签发： | C41: 签订： | D41: 复核： | E41: 编制：

Sheet 19#
A1: 商品住房房源价目清单
A2: 楼幢号： | B2: 19 | C2: 地上层数（层）： | D2: 6+1F
A3: 序号 | B3: 房号 | C3: 建筑面积（平方米） | D3: 单价（元/平方米） | E3: 房屋总价（元）
A4: 1 | B4: 19-2-102 | C4: 143.84 | D4: 16698.318 | E4: 2401886
A5: 2 | B5: 19-2-202 | C5: 143.84 | D5: 13336.624 | E5: 1918340
A6: 3 | B6: 19-2-302 | C6: 143.84 | D6: 13645.808 | E6: 1962813
A7: 4 | B7: 19-2-402 | C7: 143.84 | D7: 13645.808 | E7: 1962813
A8: 5 | B8: 19-2-502 | C8: 143.84 | D8: 13954.992 | E8: 2007286
A9: 6 | B9: 19-2-602 | C9: 182.47 | D9: 13020.497 | E9: 2375850
A10: 7 | B10: 19-2-101 | C10: 143.54 | D10: 16347.68 | E10: 2346546
A11: 8 | B11: 19-2-201 | C11: 143.54 | D11: 13053.671 | E11: 1873724
A12: 9 | B12: 19-2-301 | C12: 143.54 | D12: 13362.854 | E12: 1918104
A13: 10 | B13: 19-2-401 | C13: 143.54 | D13: 13362.854 | E13: 1918104
A14: 11 | B14: 19-2-501 | C14: 143.54 | D14: 13672.036 | E14: 1962484
A15: 12 | B15: 19-2-601 | C15: 182.28 | D15: 12737.261 | E15: 2321748
... A27: 24 | B27: 19-1-601 | C27: 182.47 | D27: 13020.497 | E27: 2375850
A29: 签发： | C29: 签订： | D29: 复核： | E29: 编制：

Sheet Sheet1
A1: 中海·阅骊山·贤庭商品住房房源备案价格表
A2: 楼幢号： | B2: 21 | C2: 地上层数（层）： | D2: 6 | G2: 楼幢号： | H2: 22 | I2: 地上层数（层）： | J2: 6 | M2: 楼幢号： | N2: 23 | O2: 地上层数（层）： | P2: 6
A3: 序号 | B3: 房号 | C3: 建筑面积（平方米） | D3: 单价（元/平方米） | E3: 房屋总价（元） | G3: 序号 | H3: 房号 | I3: 建筑面积（平方米） | J3: 单价（元/平方米） | K3: 房屋总价（元） | M3: 序号 | N3: 房号 | O3: 建筑面积（平方米） | P3: 单价（元/平方米） | Q3: 房屋总价（元）
A4: 1 | B4: 21-3-102 | C4: 129.99 | D4: =ROUNDDOWN('10#'!$D4,0) -> 17014 | E4: =C4*D4 -> 2211649.9 | G4: 1 | H4: 22-3-102 | I4: 129.99 | J4: =ROUNDDOWN('14#'!$D4,0) -> 17529 | K4: =I4*J4 -> 2278594.7 | M4: 1 | N4: 23-2-102 | O4: 129.19 | P4: =ROUNDDOWN('15#'!$D4,0) -> 16669 | Q4: =O4*P4 -> 2153468.1
A5: 2 | B5: 21-3-202 | C5: 129.99 | D5: =ROUNDDOWN('10#'!$D5,0) -> 13617 | E5: =C5*D5 -> 1770073.8 | G5: 2 | H5: 22-3-202 | I5: 129.99 | J5: =ROUNDDOWN('14#'!$D5,0) -> 14133 | K5: =I5*J5 -> 1837148.7 | M5: 2 | N5: 23-2-202 | O5: 129.19 | P5: =ROUNDDOWN('15#'!$D5,0) -> 13594 | Q5: =O5*P5 -> 1756208.9
A6: 3 | B6: 21-3-302 | C6: 129.99 | D6: =ROUNDDOWN('10#'!$D6,0) -> 13927 | E6: =C6*D6 -> 1810370.7 | G6: 3 | H6: 22-3-302 | I6: 129.99 | J6: =ROUNDDOWN('14#'!$D6,0) -> 14442 | K6: =I6*J6 -> 1877315.6 | M6: 3 | N6: 23-2-302 | O6: 129.19 | P6: =ROUNDDOWN('15#'!$D6,0) -> 13903 | Q6: =O6*P6 -> 1796128.6
A7: 4 | B7: 21-3-402 | C7: 129.99 | D7: =ROUNDDOWN('10#'!$D7,0) -> 13927 | E7: =C7*D7 -> 1810370.7 | G7: 4 | H7: 22-3-402 | I7: 129.99 | J7: =ROUNDDOWN('14#'!$D7,0) -> 14442 | K7: =I7*J7 -> 1877315.6 | M7: 4 | N7: 23-2-402 | O7: 129.19 | P7: =ROUNDDOWN('15#'!$D7,0) -> 13903 | Q7: =O7*P7 -> 1796128.6
A8: 5 | B8: 21-3-502 | C8: 129.99 | D8: =ROUNDDOWN('10#'!$D8,0) -> 14236 | E8: =C8*D8 -> 1850537.6 | G8: 5 | H8: 22-3-502 | I8: 129.99 | J8: =ROUNDDOWN('14#'!$D8,0) -> 14751 | K8: =I8*J8 -> 1917482.5 | M8: 5 | N8: 23-2-502 | O8: 129.19 | P8: =ROUNDDOWN('15#'!$D8,0) -> 14212 | Q8: =O8*P8 -> 1836048.3
A9: 6 | B9: 21-3-602 | C9: 161.98 | D9: =ROUNDDOWN('10#'!$D9,0) -> 13301 | E9: =C9*D9 -> 2154496 | G9: 6 | H9: 22-3-602 | I9: 161.98 | J9: =ROUNDDOWN('14#'!$D9,0) -> 13817 | K9: =I9*J9 -> 2238077.7 | M9: 6 | N9: 23-2-602 | O9: 165.06 | P9: =ROUNDDOWN('15#'!$D9,0) -> 13278 | Q9: =O9*P9 -> 2191666.7
A10: 7 | B10: 21-3-101 | C10: 130.96 | D10: =ROUNDDOWN('10#'!$D10,0) -> 16740 | E10: =C10*D10 -> 2192270.4 | G10: 7 | H10: 22-3-101 | I10: 130.96 | J10: =ROUNDDOWN('14#'!$D10,0) -> 16947 | K10: =I10*J10 -> 2219379.1 | M10: 7 | N10: 23-2-101 | O10: 130.16 | P10: =ROUNDDOWN('15#'!$D10,0) -> 16641 | Q10: =O10*P10 -> 2165992.6
A11: 8 | B11: 21-3-201 | C11: 130.96 | D11: =ROUNDDOWN('10#'!$D11,0) -> 13412 | E11: =C11*D11 -> 1756435.5 | G11: 8 | H11: 22-3-201 | I11: 130.96 | J11: =ROUNDDOWN('14#'!$D11,0) -> 13618 | K11: =I11*J11 -> 1783413.3 | M11: 8 | N11: 23-2-201 | O11: 130.16 | P11: =ROUNDDOWN('15#'!$D11,0) -> 13311 | Q11: =O11*P11 -> 1732559.8
A12: 9 | B12: 21-3-301 | C12: 130.96 | D12: =ROUNDDOWN('10#'!$D12,0) -> 13721 | E12: =C12*D12 -> 1796902.2 | G12: 9 | H12: 22-3-301 | I12: 130.96 | J12: =ROUNDDOWN('14#'!$D12,0) -> 13927 | K12: =I12*J12 -> 1823879.9 | M12: 9 | N12: 23-2-301 | O12: 130.16 | P12: =ROUNDDOWN('15#'!$D12,0) -> 13620 | Q12: =O12*P12 -> 1772779.2
A13: 10 | B13: 21-3-401 | C13: 130.96 | D13: =ROUNDDOWN('10#'!$D13,0) -> 13721 | E13: =C13*D13 -> 1796902.2 | G13: 10 | H13: 22-3-401 | I13: 130.96 | J13: =ROUNDDOWN('14#'!$D13,0) -> 13927 | K13: =I13*J13 -> 1823879.9 | M13: 10 | N13: 23-2-401 | O13: 130.16 | P13: =ROUNDDOWN('15#'!$D13,0) -> 13620 | Q13: =O13*P13 -> 1772779.2
A14: 11 | B14: 21-3-501 | C14: 130.96 | D14: =ROUNDDOWN('10#'!$D14,0) -> 14030 | E14: =C14*D14 -> 1837368.8 | G14: 11 | H14: 22-3-501 | I14: 130.96 | J14: =ROUNDDOWN('14#'!$D14,0) -> 14236 | K14: =I14*J14 -> 1864346.6 | M14: 11 | N14: 23-2-501 | O14: 130.16 | P14: =ROUNDDOWN('15#'!$D14,0) -> 13929 | Q14: =O14*P14 -> 1812998.6
A15: 12 | B15: 21-3-601 | C15: 163.22 | D15: =ROUNDDOWN('10#'!$D15,0) -> 13095 | E15: =C15*D15 -> 2137365.9 | G15: 12 | H15: 22-3-601 | I15: 163.22 | J15: =ROUNDDOWN('14#'!$D15,0) -> 12786 | K15: =I15*J15 -> 2086930.9 | M15: 12 | N15: 23-2-601 | O15: 166.22 | P15: =ROUNDDOWN('15#'!$D15,0) -> 12994 | Q15: =O15*P15 -> 2159862.7
... A27: 24 | B27: 21-2-601 | C27: 161.98 | D27: =ROUNDDOWN('10#'!$D27,0) -> 12786 | E27: =C27*D27 -> 2071076.3 | G27: 24 | H27: 22-2-601 | I27: 161.98 | J27: =ROUNDDOWN('14#'!$D27,0) -> 13095 | K27: =I27*J27 -> 2121128.1 | M27: 24 | N27: 23-1-601 | O27: 165.06 | P27: =ROUNDDOWN('15#'!$D27,0) -> 13278 | Q27: =O27*P27 -> 2191666.7
A28: 25 | B28: 21-1-102 | C28: 130.96 | D28: =ROUNDDOWN('10#'!$D28,0) -> 16843 | E28: =C28*D28 -> 2205759.3 | G28: 25 | H28: 22-1-102 | I28: 130.96 | J28: =ROUNDDOWN('14#'!$D28,0) -> 16740 | K28: =I28*J28 -> 2192270.4 | O28: =SUBTOTAL(9,O4:O27) -> 3256.06 | P28: =Q28/O28 -> 14113.206 | Q28: =SUBTOTAL(9,Q4:Q27) -> 45953445
A29: 26 | B29: 21-1-202 | C29: 130.96 | D29: =ROUNDDOWN('10#'!$D29,0) -> 13515 | E29: =C29*D29 -> 1769924.4 | G29: 26 | H29: 22-1-202 | I29: 130.96 | J29: =ROUNDDOWN('14#'!$D29,0) -> 13412 | K29: =I29*J29 -> 1756435.5
A30: 27 | B30: 21-1-302 | C30: 130.96 | D30: =ROUNDDOWN('10#'!$D30,0) -> 13824 | E30: =C30*D30 -> 1810391 | G30: 27 | H30: 22-1-302 | I30: 130.96 | J30: =ROUNDDOWN('14#'!$D30,0) -> 13721 | K30: =I30*J30 -> 1796902.2
A31: 28 | B31: 21-1-402 | C31: 130.96 | D31: =ROUNDDOWN('10#'!$D31,0) -> 13824 | E31: =C31*D31 -> 1810391 | G31: 28 | H31: 22-1-402 | I31: 130.96 | J31: =ROUNDDOWN('14#'!$D31,0) -> 13721 | K31: =I31*J31 -> 1796902.2
A32: 29 | B32: 21-1-502 | C32: 130.96 | D32: =ROUNDDOWN('10#'!$D32,0) -> 14133 | E32: =C32*D32 -> 1850857.7 | G32: 29 | H32: 22-1-502 | I32: 130.96 | J32: =ROUNDDOWN('14#'!$D32,0) -> 14030 | K32: =I32*J32 -> 1837368.8
A33: 30 | B33: 21-1-602 | C33: 163.22 | D33: =ROUNDDOWN('10#'!$D33,0) -> 13198 | E33: =C33*D33 -> 2154177.6 | G33: 30 | H33: 22-1-602 | I33: 163.22 | J33: =ROUNDDOWN('14#'!$D33,0) -> 12580 | K33: =I33*J33 -> 2053307.6
A34: 31 | B34: 21-1-101 | C34: 129.99 | D34: =ROUNDDOWN('10#'!$D34,0) -> 17117 | E34: =C34*D34 -> 2225038.8 | G34: 31 | H34: 22-1-101 | I34: 129.99 | J34: =ROUNDDOWN('14#'!$D34,0) -> 17168 | K34: =I34*J34 -> 2231668.3
A35: 32 | B35: 21-1-201 | C35: 129.99 | D35: =ROUNDDOWN('10#'!$D35,0) -> 13720 | E35: =C35*D35 -> 1783462.8 | G35: 32 | H35: 22-1-201 | I35: 129.99 | J35: =ROUNDDOWN('14#'!$D35,0) -> 13772 | K35: =I35*J35 -> 1790222.3
A36: 33 | B36: 21-1-301 | C36: 129.99 | D36: =ROUNDDOWN('10#'!$D36,0) -> 14030 | E36: =C36*D36 -> 1823759.7 | G36: 33 | H36: 22-1-301 | I36: 129.99 | J36: =ROUNDDOWN('14#'!$D36,0) -> 14081 | K36: =I36*J36 -> 1830389.2
A37: 34 | B37: 21-1-401 | C37: 129.99 | D37: =ROUNDDOWN('10#'!$D37,0) -> 14030 | E37: =C37*D37 -> 1823759.7 | G37: 34 | H37: 22-1-401 | I37: 129.99 | J37: =ROUNDDOWN('14#'!$D37,0) -> 14081 | K37: =I37*J37 -> 1830389.2
A38: 35 | B38: 21-1-501 | C38: 129.99 | D38: =ROUNDDOWN('10#'!$D38,0) -> 14339 | E38: =C38*D38 -> 1863926.6 | G38: 35 | H38: 22-1-501 | I38: 129.99 | J38: =ROUNDDOWN('14#'!$D38,0) -> 14390 | K38: =I38*J38 -> 1870556.1
A39: 36 | B39: 21-1-601 | C39: 161.98 | D39: =ROUNDDOWN('10#'!$D39,0) -> 13404 | E39: =C39*D39 -> 2171179.9 | G39: 36 | H39: 22-1-601 | I39: 161.98 | J39: =ROUNDDOWN('14#'!$D39,0) -> 13456 | K39: =I39*J39 -> 2179602.9
C40: =SUBTOTAL(9,C4:C39) -> 4889.85 | D40: =E40/C40 -> 14082.529 | E40: =SUBTOTAL(9,E4:E39) -> 68861455 | I40: =SUBTOTAL(9,I4:I39) -> 4889.85 | J40: =K40/I40 -> 14262.533 | K40: =SUBTOTAL(9,K4:K39) -> 69741646
B43: 签发： | G43: 签订： | K43: 复核： | Q43: 编制：

Sheet Sheet2
A1: 中海·阅骊山B地块10#14#15#18#19#楼备案价格表
A2: 商品住房房源价目清单 | G2: 商品住房房源价目清单 | M2: 商品住房房源价目清单 | S2: 商品住房房源价目清单 | Y2: 商品住房房源价目清单
A3: 楼幢号： | B3: 10 | C3: 地上层数（层）： | D3: 6 | G3: 楼幢号： | H3: 14 | I3: 地上层数（层）： | J3: 6 | M3: 楼幢号： | N3: 15 | O3: 地上层数（层）： | P3: 6 | S3: 楼幢号： | T3: 18 | U3: 地上层数（层）： | V3: 6 | Y3: 楼幢号： | Z3: 19 | AA3: 地上层数（层）： | AB3: 6
A4: 序号 | B4: 房号 | C4: 建筑面积（平方米） | D4: 单价（元/平方米） | E4: 房屋总价（元） | G4: 序号 | H4: 房号 | I4: 建筑面积（平方米） | J4: 单价（元/平方米） | K4: 房屋总价（元） | M4: 序号 | N4: 房号 | O4: 建筑面积（平方米） | P4: 单价（元/平方米） | Q4: 房屋总价（元） | S4: 序号 | T4: 房号 | U4: 建筑面积（平方米） | V4: 单价（元/平方米） | W4: 房屋总价（元） | Y4: 序号 | Z4: 房号 | AA4: 建筑面积（平方米） | AB4: 单价（元/平方米） | AC4: 房屋总价（元）
A5: 1 | B5: 10-3-102 | C5: 143.93 | D5: 17016.17 | E5: =C5*D5 -> 2449137.3 | G5: 1 | H5: 14-3-102 | I5: 143.93 | J5: 17531.475 | K5: =I5*J5 -> 2523305.2 | M5: 1 | N5: 15-2-102 | O5: 143.84 | P5: 16669.374 | Q5: =O5*P5 -> 2397722.8 | S5: 1 | T5: 18-3-102 | U5: 143.93 | V5: 16335.923 | W5: =U5*V5 -> 2351229.4 | Y5: 1 | Z5: 19-2-102 | AA5: 143.84 | AB5: 16698.321 | AC5: =AA5*AB5 -> 2401886.4
A6: 2 | B6: 10-3-202 | C6: 143.93 | D6: 13619.907 | E6: =C6*D6 -> 1960313.3 | G6: 2 | H6: 14-3-202 | I6: 143.93 | J6: 14135.212 | K6: =I6*J6 -> 2034481.1 | M6: 2 | N6: 15-2-202 | O6: 143.84 | P6: 13594.281 | Q6: =O6*P6 -> 1955401.4 | S6: 2 | T6: 18-3-202 | U6: 143.93 | V6: 13619.907 | W6: =U6*V6 -> 1960313.3 | Y6: 2 | Z6: 19-2-202 | AA6: 143.84 | AB6: 13336.628 | AC6: =AA6*AB6 -> 1918340.6
A7: 3 | B7: 10-3-302 | C7: 143.93 | D7: 13929.09 | E7: =C7*D7 -> 2004814 | G7: 3 | H7: 14-3-302 | I7: 143.93 | J7: 14444.395 | K7: =I7*J7 -> 2078981.8 | M7: 3 | N7: 15-2-302 | O7: 143.84 | P7: 13903.464 | Q7: =O7*P7 -> 1999874.3 | S7: 3 | T7: 18-3-302 | U7: 143.93 | V7: 13929.09 | W7: =U7*V7 -> 2004814 | Y7: 3 | Z7: 19-2-302 | AA7: 143.84 | AB7: 13645.811 | AC7: =AA7*AB7 -> 1962813.5
A8: 4 | B8: 10-3-402 | C8: 143.93 | D8: 13929.09 | E8: =C8*D8 -> 2004814 | G8: 4 | H8: 14-3-402 | I8: 143.93 | J8: 14444.395 | K8: =I8*J8 -> 2078981.8 | M8: 4 | N8: 15-2-402 | O8: 143.84 | P8: 13903.464 | Q8: =O8*P8 -> 1999874.3 | S8: 4 | T8: 18-3-402 | U8: 143.93 | V8: 13929.09 | W8: =U8*V8 -> 2004814 | Y8: 4 | Z8: 19-2-402 | AA8: 143.84 | AB8: 13645.811 | AC8: =AA8*AB8 -> 1962813.5
A9: 5 | B9: 10-3-502 | C9: 143.93 | D9: 14238.273 | E9: =C9*D9 -> 2049314.7 | G9: 5 | H9: 14-3-502 | I9: 143.93 | J9: 14753.579 | K9: =I9*J9 -> 2123482.6 | M9: 5 | N9: 15-2-502 | O9: 143.84 | P9: 14212.647 | Q9: =O9*P9 -> 2044347.2 | S9: 5 | T9: 18-3-502 | U9: 143.93 | V9: 14238.273 | W9: =U9*V9 -> 2049314.7 | Y9: 5 | Z9: 19-2-502 | AA9: 143.84 | AB9: 13954.995 | AC9: =AA9*AB9 -> 2007286.4
A10: 6 | B10: 10-3-602 | C10: 182.59 | D10: 13303.804 | E10: =C10*D10 -> 2429141.7 | G10: 6 | H10: 14-3-602 | I10: 182.59 | J10: 13819.11 | K10: =I10*J10 -> 2523231.2 | M10: 6 | N10: 15-2-602 | O10: 182.47 | P10: 13278.154 | Q10: =O10*P10 -> 2422864.8 | S10: 6 | T10: 18-3-602 | U10: 182.59 | V10: 13303.804 | W10: =U10*V10 -> 2429141.7 | Y10: 6 | Z10: 19-2-602 | AA10: 182.47 | AB10: 13020.502 | AC10: =AA10*AB10 -> 2375851
A11: 7 | B11: 10-3-101 | C11: 143.63 | D11: 16742.945 | E11: =C11*D11 -> 2404789.1 | G11: 7 | H11: 14-3-101 | I11: 143.63 | J11: 16949.067 | K11: =I11*J11 -> 2434394.4 | M11: 7 | N11: 15-2-101 | O11: 143.54 | P11: 16641.238 | Q11: =O11*P11 -> 2388683.3 | S11: 7 | T11: 18-3-101 | U11: 143.63 | V11: 15926.909 | W11: =U11*V11 -> 2287582 | Y11: 7 | Z11: 19-2-101 | AA11: 143.54 | AB11: 16347.686 | AC11: =AA11*AB11 -> 2346546.8
A12: 8 | B12: 10-3-201 | C12: 143.63 | D12: 13414.249 | E12: =C12*D12 -> 1926688.6 | G12: 8 | H12: 14-3-201 | I12: 143.63 | J12: 13620.371 | K12: =I12*J12 -> 1956293.9 | M12: 8 | N12: 15-2-201 | O12: 143.54 | P12: 13311.327 | Q12: =O12*P12 -> 1910707.9 | S12: 8 | T12: 18-3-201 | U12: 143.63 | V12: 13208.127 | W12: =U12*V12 -> 1897083.3 | Y12: 8 | Z12: 19-2-201 | AA12: 143.54 | AB12: 13053.675 | AC12: =AA12*AB12 -> 1873724.5
A13: 9 | B13: 10-3-301 | C13: 143.63 | D13: 13723.432 | E13: =C13*D13 -> 1971096.5 | G13: 9 | H13: 14-3-301 | I13: 143.63 | J13: 13929.554 | K13: =I13*J13 -> 2000701.8 | M13: 9 | N13: 15-2-301 | O13: 143.54 | P13: 13620.51 | Q13: =O13*P13 -> 1955088.1 | S13: 9 | T13: 18-3-301 | U13: 143.63 | V13: 13517.31 | W13: =U13*V13 -> 1941491.2 | Y13: 9 | Z13: 19-2-301 | AA13: 143.54 | AB13: 13362.858 | AC13: =AA13*AB13 -> 1918104.6
A14: 10 | B14: 10-3-401 | C14: 143.63 | D14: 13723.432 | E14: =C14*D14 -> 1971096.5 | G14: 10 | H14: 14-3-401 | I14: 143.63 | J14: 13929.554 | K14: =I14*J14 -> 2000701.8 | M14: 10 | N14: 15-2-401 | O14: 143.54 | P14: 13620.51 | Q14: =O14*P14 -> 1955088.1 | S14: 10 | T14: 18-3-401 | U14: 143.63 | V14: 13517.31 | W14: =U14*V14 -> 1941491.2 | Y14: 10 | Z14: 19-2-401 | AA14: 143.54 | AB14: 13362.858 | AC14: =AA14*AB14 -> 1918104.6
A15: 11 | B15: 10-3-501 | C15: 143.63 | D15: 14032.615 | E15: =C15*D15 -> 2015504.5 | G15: 11 | H15: 14-3-501 | I15: 143.63 | J15: 14238.737 | K15: =I15*J15 -> 2045109.8 | M15: 11 | N15: 15-2-501 | O15: 143.54 | P15: 13929.694 | Q15: =O15*P15 -> 1999468.2 | S15: 11 | T15: 18-3-501 | U15: 143.63 | V15: 13826.493 | W15: =U15*V15 -> 1985899.2 | Y15: 11 | Z15: 19-2-501 | AA15: 143.54 | AB15: 13672.041 | AC15: =AA15*AB15 -> 1962484.8
A16: 12 | B16: 10-3-601 | C16: 182.4 | D16: 13097.865 | E16: =C16*D16 -> 2389050.5 | G16: 12 | H16: 14-3-601 | I16: 182.4 | J16: 12788.682 | K16: =I16*J16 -> 2332655.5 | M16: 12 | N16: 15-2-601 | O16: 182.28 | P16: 12994.919 | Q16: =O16*P16 -> 2368713.8 | S16: 12 | T16: 18-3-601 | U16: 182.4 | V16: 12994.804 | W16: =U16*V16 -> 2370252.2 | Y16: 12 | Z16: 19-2-601 | AA16: 182.28 | AB16: 12737.266 | AC16: =AA16*AB16 -> 2321748.9
... A28: 24 | B28: 10-2-601 | C28: 182.59 | D28: 12788.499 | E28: =C28*D28 -> 2335052.1 | G28: 24 | H28: 14-2-601 | I28: 182.59 | J28: 13097.682 | K28: =I28*J28 -> 2391505.8 | M28: 24 | N28: 15-1-601 | O28: 182.47 | P28: 13278.154 | Q28: =O28*P28 -> 2422864.8 | S28: 24 | T28: 18-2-601 | U28: 182.59 | V28: 12788.499 | W28: =U28*V28 -> 2335052.1 | Y28: 24 | Z28: 19-1-601 | AA28: 182.47 | AB28: 13020.502 | AC28: =AA28*AB28 -> 2375851
A29: 25 | B29: 10-1-102 | C29: 143.63 | D29: 16846.006 | E29: =C29*D29 -> 2419591.8 | G29: 25 | H29: 14-1-102 | I29: 143.63 | J29: 16742.945 | K29: =I29*J29 -> 2404789.1 | O29: =SUBTOTAL(9,O5:O28) -> 3603.3 | P29: =Q29/O29 -> 14115.577 | Q29: =SUBTOTAL(9,Q5:Q28) -> 50862658 | S29: 25 | T29: 18-1-102 | U29: 143.63 | V29: 15720.787 | W29: =U29*V29 -> 2257976.7 | AA29: =SUBTOTAL(9,AA5:AA28) -> 3603.3 | AB29: =AC29/AA29 -> 13867.935 | AC29: =SUBTOTAL(9,AC5:AC28) -> 49970330
A30: 26 | B30: 10-1-202 | C30: 143.63 | D30: 13517.31 | E30: =C30*D30 -> 1941491.2 | G30: 26 | H30: 14-1-202 | I30: 143.63 | J30: 13414.249 | K30: =I30*J30 -> 1926688.6 | S30: 26 | T30: 18-1-202 | U30: 143.63 | V30: 13002.005 | W30: =U30*V30 -> 1867478
A31: 27 | B31: 10-1-302 | C31: 143.63 | D31: 13826.493 | E31: =C31*D31 -> 1985899.2 | G31: 27 | H31: 14-1-302 | I31: 143.63 | J31: 13723.432 | K31: =I31*J31 -> 1971096.5 | S31: 27 | T31: 18-1-302 | U31: 143.63 | V31: 13311.188 | W31: =U31*V31 -> 1911885.9
A32: 28 | B32: 10-1-402 | C32: 143.63 | D32: 13826.493 | E32: =C32*D32 -> 1985899.2 | G32: 28 | H32: 14-1-402 | I32: 143.63 | J32: 13723.432 | K32: =I32*J32 -> 1971096.5 | S32: 28 | T32: 18-1-402 | U32: 143.63 | V32: 13311.188 | W32: =U32*V32 -> 1911885.9
A33: 29 | B33: 10-1-502 | C33: 143.63 | D33: 14135.676 | E33: =C33*D33 -> 2030307.2 | G33: 29 | H33: 14-1-502 | I33: 143.63 | J33: 14032.615 | K33: =I33*J33 -> 2015504.5 | S33: 29 | T33: 18-1-502 | U33: 143.63 | V33: 13620.371 | W33: =U33*V33 -> 1956293.9
A34: 30 | B34: 10-1-602 | C34: 182.4 | D34: 13200.926 | E34: =C34*D34 -> 2407848.9 | G34: 30 | H34: 14-1-602 | I34: 182.4 | J34: 12582.56 | K34: =I34*J34 -> 2295058.9 | S34: 30 | T34: 18-1-602 | U34: 182.4 | V34: 12891.743 | W34: =U34*V34 -> 2351453.9
A35: 31 | B35: 10-1-101 | C35: 143.93 | D35: 17119.231 | E35: =C35*D35 -> 2463970.9 | G35: 31 | H35: 14-1-101 | I35: 143.93 | J35: 17170.761 | K35: =I35*J35 -> 2471387.7 | S35: 31 | T35: 18-1-101 | U35: 143.93 | V35: 15879.183 | W35: =U35*V35 -> 2285490.9
A36: 32 | B36: 10-1-201 | C36: 143.93 | D36: 13722.968 | E36: =C36*D36 -> 1975146.8 | G36: 32 | H36: 14-1-201 | I36: 143.93 | J36: 13774.499 | K36: =I36*J36 -> 1982563.6 | S36: 32 | T36: 18-1-201 | U36: 143.93 | V36: 13413.785 | W36: =U36*V36 -> 1930646.1
A37: 33 | B37: 10-1-301 | C37: 143.93 | D37: 14032.151 | E37: =C37*D37 -> 2019647.6 | G37: 33 | H37: 14-1-301 | I37: 143.93 | J37: 14083.682 | K37: =I37*J37 -> 2027064.3 | S37: 33 | T37: 18-1-301 | U37: 143.93 | V37: 13722.968 | W37: =U37*V37 -> 1975146.8
A38: 34 | B38: 10-1-401 | C38: 143.93 | D38: 14032.151 | E38: =C38*D38 -> 2019647.6 | G38: 34 | H38: 14-1-401 | I38: 143.93 | J38: 14083.682 | K38: =I38*J38 -> 2027064.3 | S38: 34 | T38: 18-1-401 | U38: 143.93 | V38: 13722.968 | W38: =U38*V38 -> 1975146.8
A39: 35 | B39: 10-1-501 | C39: 143.93 | D39: 14341.334 | E39: =C39*D39 -> 2064148.3 | G39: 35 | H39: 14-1-501 | I39: 143.93 | J39: 14392.865 | K39: =I39*J39 -> 2071565.1 | S39: 35 | T39: 18-1-501 | U39: 143.93 | V39: 14032.151 | W39: =U39*V39 -> 2019647.6
A40: 36 | B40: 10-1-601 | C40: 182.59 | D40: 13406.865 | E40: =C40*D40 -> 2447959.6 | G40: 36 | H40: 14-1-601 | I40: 182.59 | J40: 13458.396 | K40: =I40*J40 -> 2457368.5 | S40: 36 | T40: 18-1-601 | U40: 182.59 | V40: 13097.682 | W40: =U40*V40 -> 2391505.8
C41: =SUBTOTAL(9,C5:C40) -> 5408.37 | D41: =E41/C41 -> 14081.768 | E41: =SUBTOTAL(9,E5:E40) -> 76159410 | I41: =SUBTOTAL(9,I5:I40) -> 5408.37 | J41: =K41/I41 -> 14261.793 | K41: =SUBTOTAL(9,K5:K40) -> 77133052 | U41: =SUBTOTAL(9,U5:U40) -> 5408.37 | V41: =W41/U41 -> 13801.625 | W41: =SUBTOTAL(9,W5:W40) -> 74644292
A44: 签发： | J44: 签订： | T44: 复核： | AC44: 编制：
